BEGIN:VCALENDAR
VERSION:2.0
PRODID:-//Tukios.com/
BEGIN:VEVENT
UID:156d56b1-6ee2-4e4e-8fe0-11142d780aa6@www.matthewsfuneralhome.com
DTSTAMP:20260420T204324Z
DTSTART:20260425T160000Z
DTEND:20260425T170000Z
SUMMARY:Graveside Service
DESCRIPTION:
URL:https://www.matthewsfuneralhome.com/obituaries/gayla-stewart-atkinson
LOCATION:Tipton Cemetery E1740 Rd  Tipton OK 73570
GEO:34.493576;-99.1463053
END:VEVENT
END:VCALENDAR