BEGIN:VCALENDAR
VERSION:2.0
PRODID:-//Tukios.com/
BEGIN:VEVENT
UID:1090e94f-88d2-462c-8a58-3f702296d9c4@www.matthewsfuneralhome.com
DTSTAMP:20260420T103418Z
DTSTART:20260430T220000Z
DTEND:20260430T230000Z
SUMMARY:Visitation
DESCRIPTION:
URL:https://www.matthewsfuneralhome.com/obituaries/mary-ann-harris
LOCATION:Matthews Funeral Home 601 South Kelly Avenue  Edmond OK 73003
GEO:35.6508466;-97.4966662
END:VEVENT
END:VCALENDAR