BEGIN:VCALENDAR
VERSION:2.0
PRODID:-//Tukios.com/
BEGIN:VEVENT
UID:6649c224-058b-4dac-b521-6b3181679ac5@www.matthewsfuneralhome.com
DTSTAMP:20260420T103715Z
DTSTART:20260501T150000Z
DTEND:20260501T160000Z
SUMMARY:Burial
DESCRIPTION:
URL:https://www.matthewsfuneralhome.com/obituaries/mary-ann-harris
LOCATION:Rosedale Cemetery 2020 N. Oak Ave  Ada OK 74820
GEO:34.7927266;-96.6858666
END:VEVENT
END:VCALENDAR