BEGIN:VCALENDAR
VERSION:2.0
PRODID:-//Tukios.com/
BEGIN:VEVENT
UID:a364c6d1-e565-49ba-aa31-a1fdfc40c495@www.matthewsfuneralhome.com
DTSTAMP:20260422T012801Z
DTSTART:20260425T190000Z
DTEND:20260425T200000Z
SUMMARY:Funeral Service
DESCRIPTION:
URL:https://www.matthewsfuneralhome.com/obituaries/richard-cloyd
LOCATION:Oakdale Baptist Church 6400 East Hefner Road  Oklahoma City OK 
	73151
GEO:35.5795386;-97.4140805
END:VEVENT
END:VCALENDAR